BEGIN:VCALENDAR
VERSION:2.0
PRODID:-//Wiadomości Warmińskie Dobre Miasto Olsztyn - ECPv6.15.20//NONSGML v1.0//EN
CALSCALE:GREGORIAN
METHOD:PUBLISH
X-ORIGINAL-URL:https://www.wiadomosciwarminskie.pl
X-WR-CALDESC:Wydarzenia dla Wiadomości Warmińskie Dobre Miasto Olsztyn
REFRESH-INTERVAL;VALUE=DURATION:PT1H
X-Robots-Tag:noindex
X-PUBLISHED-TTL:PT1H
BEGIN:VTIMEZONE
TZID:Europe/Warsaw
BEGIN:DAYLIGHT
TZOFFSETFROM:+0100
TZOFFSETTO:+0200
TZNAME:CEST
DTSTART:20160327T010000
END:DAYLIGHT
BEGIN:STANDARD
TZOFFSETFROM:+0200
TZOFFSETTO:+0100
TZNAME:CET
DTSTART:20161030T010000
END:STANDARD
BEGIN:DAYLIGHT
TZOFFSETFROM:+0100
TZOFFSETTO:+0200
TZNAME:CEST
DTSTART:20170326T010000
END:DAYLIGHT
BEGIN:STANDARD
TZOFFSETFROM:+0200
TZOFFSETTO:+0100
TZNAME:CET
DTSTART:20171029T010000
END:STANDARD
BEGIN:DAYLIGHT
TZOFFSETFROM:+0100
TZOFFSETTO:+0200
TZNAME:CEST
DTSTART:20180325T010000
END:DAYLIGHT
BEGIN:STANDARD
TZOFFSETFROM:+0200
TZOFFSETTO:+0100
TZNAME:CET
DTSTART:20181028T010000
END:STANDARD
END:VTIMEZONE
BEGIN:VEVENT
DTSTART;TZID=Europe/Warsaw:20170814T180000
DTEND;TZID=Europe/Warsaw:20170814T203000
DTSTAMP:20260422T214740
CREATED:20170811T092241Z
LAST-MODIFIED:20170811T092241Z
UID:44849-1502733600-1502742600@www.wiadomosciwarminskie.pl
SUMMARY:Wakacje z Concordią
DESCRIPTION:Wakacje z Concordią – 14 sierpnia\, godz. 18:00 – Przedmurze\, ul. Sowińskiego\nKoncert pieśni i piosenek grupy Concordia Dobre Miasto w aranżacjach i pod kierunkiem Andrzeja Ilkiewicza.
URL:https://www.wiadomosciwarminskie.pl/wydarzenia/wakacje-z-concordia/
ATTACH;FMTTYPE=image/jpeg:https://www.wiadomosciwarminskie.pl/wp-content/uploads/2017/08/wakacje_z_knkordia3.jpg
END:VEVENT
BEGIN:VEVENT
DTSTART;TZID=Europe/Warsaw:20170806T120000
DTEND;TZID=Europe/Warsaw:20170806T170000
DTSTAMP:20260422T214740
CREATED:20170801T162126Z
LAST-MODIFIED:20170806T083512Z
UID:44664-1502020800-1502038800@www.wiadomosciwarminskie.pl
SUMMARY:Pchli targ
DESCRIPTION:Pchli targ – 6 sierpnia\, godz. 12:00 – Przedmurze\, ul. Sowińskiego\n  \nPowracamy do bogatej tradycji\, nabywania i wymiany używanych przedmiotów. Plenerowy bazarek przy Skansenie Miejskim. \nPRZESZUKAJ: strych\, piwnicę\, pawlacze\, szafy\, szopy… \nSPAKUJ: starocie\, bibeloty\, książki\, zabawki\, ubrania\, płyty… \nPRZYJDŹ NA PCHLI TARG: sprzedaj\, bądź je wymień… \nZapraszamy na Przedmurze ul. Sowińskiego w Dobrym Mieście
URL:https://www.wiadomosciwarminskie.pl/wydarzenia/pchli-targ/
ATTACH;FMTTYPE=image/jpeg:https://www.wiadomosciwarminskie.pl/wp-content/uploads/2017/08/84d99a710e.jpg
END:VEVENT
BEGIN:VEVENT
DTSTART;TZID=Europe/Warsaw:20170805T190000
DTEND;TZID=Europe/Warsaw:20170805T230000
DTSTAMP:20260422T214740
CREATED:20170801T161741Z
LAST-MODIFIED:20170801T161741Z
UID:44661-1501959600-1501974000@www.wiadomosciwarminskie.pl
SUMMARY:#dobremiasto Muzyczna Scena Rockowa - The Good Times
DESCRIPTION:Muzyczna Scena Rockowa – The Good Times\n \n5 sierpnia\, godz. 19:00 – Przedmurze\, ul. Sowińskiego w Dobrym Mieście
URL:https://www.wiadomosciwarminskie.pl/wydarzenia/dobremiasto-muzyczna-scena-rockowa-the-good-times/
ATTACH;FMTTYPE=image/jpeg:https://www.wiadomosciwarminskie.pl/wp-content/uploads/2017/08/9a19eb50dd.jpg
END:VEVENT
END:VCALENDAR